BEGIN:VCALENDAR
VERSION:2.0
PRODID:-//Orange Stall Fabrication - ECPv6.15.20//NONSGML v1.0//EN
CALSCALE:GREGORIAN
METHOD:PUBLISH
X-ORIGINAL-URL:https://stallfabrication.in
X-WR-CALDESC:Events for Orange Stall Fabrication
REFRESH-INTERVAL;VALUE=DURATION:PT1H
X-Robots-Tag:noindex
X-PUBLISHED-TTL:PT1H
BEGIN:VTIMEZONE
TZID:Asia/Kolkata
BEGIN:STANDARD
TZOFFSETFROM:+0530
TZOFFSETTO:+0530
TZNAME:IST
DTSTART:20220101T000000
END:STANDARD
END:VTIMEZONE
BEGIN:VEVENT
DTSTART;TZID=Asia/Kolkata:20230513T080000
DTEND;TZID=Asia/Kolkata:20230515T170000
DTSTAMP:20260420T220220
CREATED:20230420T060827Z
LAST-MODIFIED:20230420T061024Z
UID:1453-1683964800-1684170000@stallfabrication.in
SUMMARY:Incredible Chef Challenge 2023
DESCRIPTION:[vc_row][vc_column][vc_column_text] \n\n\n\n\n\n\nIncredible Chef Challenge 2023 (ICC 2023)\nIncredible Chef Challenge (ICC) aims at becoming the largest and most diverse culinary art competitions in India where culinary craftsmen will get to showcase their food mastery\, seeking accreditation to further enhance their skill-sets. \nICC is designed on an international framework and will be judged by a panel of internationally acclaimed chefs. It will made into a strong networking platform for the Chef Community to share experiences and take innovative ideas toward logical business solutions. \n\n\n\n\n\n\n\n\n\nWant Stall Fabrication for ICC 2023 – Orange Fabrication\n\n\n\n[/vc_column_text][/vc_column][/vc_row][vc_row overflow=”default” css=”.vc_custom_1671254916875{border-top-width: 1px !important;border-right-width: 1px !important;border-bottom-width: 1px !important;border-left-width: 1px !important;background-color: rgba(221\,153\,51\,0.25) !important;*background-color: rgb(221\,153\,51) !important;border-left-color: #dd8500 !important;border-left-style: solid !important;border-right-color: #dd8500 !important;border-right-style: solid !important;border-top-color: #dd8500 !important;border-top-style: solid !important;border-bottom-color: #dd8500 !important;border-bottom-style: solid !important;border-radius: 5px !important;}”][vc_column][vc_column_text] \nWant more clarification?\nPlease don’t hesitate to call us or mail us. 9003631393 or mail us at reachus@stallfabrication.in \nOrange Fabrication Is A Company Of Orange Art Factory – Event Management Company \n[/vc_column_text]\n\n	\n		\n\n							\n					\n				\n			\n							\n					Stall Fabrication				\n			\n			\n		\n			\n\n            \n        \n            \n            \n                \n            \n\n        [/vc_column][/vc_row]
URL:https://stallfabrication.in/exhibition-in-india/incredible-chef-challenge-2023-icc-2023/
LOCATION:Tripura Vasini Palace Ground\, Bellary Rd\, Armane Nagar\,\, Bangalore\, Karnataka\, 560006\, India
CATEGORIES:Bangalore Expo
ATTACH;FMTTYPE=image/jpeg:https://stallfabrication.in/wp-content/uploads
/2023/04/Incredible-Chef-Challenge-ICC-2023-jpg.webp
END:VEVENT
END:VCALENDAR