BEGIN:VCALENDAR
VERSION:2.0
PRODID:-//Orange Stall Fabrication - ECPv6.15.20//NONSGML v1.0//EN
CALSCALE:GREGORIAN
METHOD:PUBLISH
X-ORIGINAL-URL:https://stallfabrication.in
X-WR-CALDESC:Events for Orange Stall Fabrication
REFRESH-INTERVAL;VALUE=DURATION:PT1H
X-Robots-Tag:noindex
X-PUBLISHED-TTL:PT1H
BEGIN:VTIMEZONE
TZID:Asia/Kolkata
BEGIN:STANDARD
TZOFFSETFROM:+0530
TZOFFSETTO:+0530
TZNAME:IST
DTSTART:20230101T000000
END:STANDARD
END:VTIMEZONE
BEGIN:VEVENT
DTSTART;TZID=Asia/Kolkata:20240119T080000
DTEND;TZID=Asia/Kolkata:20240121T190000
DTSTAMP:20260423T094025
CREATED:20231024T113105Z
LAST-MODIFIED:20231024T113105Z
UID:1683-1705651200-1705863600@stallfabrication.in
SUMMARY:ASIA JEWELS SHOW
DESCRIPTION:
URL:https://stallfabrication.in/exhibition-in-india/asia-jewels-show/
LOCATION:Taj Vivanta\, Coimbatore\, Tamil Nadu\, India
CATEGORIES:Coimbatore Expo
END:VEVENT
BEGIN:VEVENT
DTSTART;TZID=Asia/Kolkata:20240120T080000
DTEND;TZID=Asia/Kolkata:20240122T190000
DTSTAMP:20260423T094025
CREATED:20231024T111952Z
LAST-MODIFIED:20231024T111952Z
UID:1677-1705737600-1705950000@stallfabrication.in
SUMMARY:INDIA POULTRY SHOW - CODISSIA - COIMBATORE
DESCRIPTION:
URL:https://stallfabrication.in/exhibition-in-india/india-poultry-show-codissia-coimbatore/
LOCATION:CODISSIA\, Coimbatore\, Tamil Nadu\, India
CATEGORIES:Coimbatore Expo
END:VEVENT
END:VCALENDAR