BEGIN:VCALENDAR
VERSION:2.0
PRODID:-//Orange Stall Fabrication - ECPv6.15.20//NONSGML v1.0//EN
CALSCALE:GREGORIAN
METHOD:PUBLISH
X-ORIGINAL-URL:https://stallfabrication.in
X-WR-CALDESC:Events for Orange Stall Fabrication
REFRESH-INTERVAL;VALUE=DURATION:PT1H
X-Robots-Tag:noindex
X-PUBLISHED-TTL:PT1H
BEGIN:VTIMEZONE
TZID:Asia/Kolkata
BEGIN:STANDARD
TZOFFSETFROM:+0530
TZOFFSETTO:+0530
TZNAME:IST
DTSTART:20220101T000000
END:STANDARD
END:VTIMEZONE
BEGIN:VEVENT
DTSTART;VALUE=DATE:20230511
DTEND;VALUE=DATE:20230515
DTSTAMP:20260422T195213
CREATED:20230221T020255Z
LAST-MODIFIED:20230527T011449Z
UID:1155-1683763200-1684108799@stallfabrication.in
SUMMARY:81st Annual Conference of All India Ophthalmological Society (AIOC 2023)
DESCRIPTION:[vc_row][vc_column][vc_column_text]AIOC 2023 Event \nThe All India Ophthalmological Society (AIOS) was established in the year 1930. It is a registered society under the societies registration act of 1860. Membership of the society has continuously grown over the years and currently it has over 23\,669 life members. \nObjectives of AIOS\nThe objectives of the society are cultivation and promotion of the study and practice of ophthalmic sciences\, research and man-power development with a view to render service to the community and to promote social contacts among ophthalmologists of the country. \nActivities of AIOS\nThe society organises annual conferences in different parts of the country. In these conferences\, a number of scientific activities that include instruction courses\, symposia\, lectures\, post graduate refresher courses\, booth lectures\, wet labs\, surgical skill transfer courses etc. are conducted for the promotion and mutual exchange of knowledge in the field of ophthalmic science. \nThe society also gives incentives to the members in the form of awards\, orations\, prizes and Fellowships in recognition of their services in the various specialities. \nThe society has multiple wings to carry out its activities which are as follows: \n\nScientific Committee\nAcademic and Research Committee\nScientific Proceedings\nIndian Journal of Ophthalmology\n\nThe President of the society has the discretionary power to form various sub committees related to various activities. These sub committees provide recommendations to the Governing Council for their consideration. \nThe AIOS Headquarter is located at Karkardooma\, New Delhi. \nAIOC 2023 Event \nMost Reliable Stall Fabricators For AIOC 2023 Kochi \n[/vc_column_text][/vc_column][/vc_row][vc_row][vc_column][vc_column_text] \nLearn About Octanorm Stall:\nOctanorm Stalls For Exhibitions[/vc_column_text][/vc_column][/vc_row]
URL:https://stallfabrication.in/exhibition-in-india/81st-annual-conference-of-all-india-ophthalmological-society-aioc-2023/
LOCATION:Lulu Bolgatty International Convention Center (LBICC)\, Bolgatty Island\, adjacent to Grand Hyatt\,\, Kochi\, Kerala\, 682504\, India
CATEGORIES:Kochi Expo
ATTACH;FMTTYPE=image/jpeg:https://stallfabrication.in/wp-content/uploads
/2023/02/AIOC-2023-logo-jpeg.webp
ORGANIZER;CN="All India Ophthalmological Society":MAILTO:aiosoffice@aios.org
END:VEVENT
END:VCALENDAR