BEGIN:VCALENDAR
VERSION:2.0
PRODID:-//Orange Stall Fabrication - ECPv6.15.20//NONSGML v1.0//EN
CALSCALE:GREGORIAN
METHOD:PUBLISH
X-ORIGINAL-URL:https://stallfabrication.in
X-WR-CALDESC:Events for Orange Stall Fabrication
REFRESH-INTERVAL;VALUE=DURATION:PT1H
X-Robots-Tag:noindex
X-PUBLISHED-TTL:PT1H
BEGIN:VTIMEZONE
TZID:Asia/Kolkata
BEGIN:STANDARD
TZOFFSETFROM:+0530
TZOFFSETTO:+0530
TZNAME:IST
DTSTART:20220101T000000
END:STANDARD
END:VTIMEZONE
BEGIN:VEVENT
DTSTART;TZID=Asia/Kolkata:20230316T100000
DTEND;TZID=Asia/Kolkata:20230318T180000
DTSTAMP:20260423T074944
CREATED:20230204T141838Z
LAST-MODIFIED:20230211T052554Z
UID:978-1678960800-1679162400@stallfabrication.in
SUMMARY:International Engineering Sourcing Show X - Stall Fabrication
DESCRIPTION:[vc_row][vc_column][vc_column_text] \nIESS – A platform to promote India as a Smart Manufacturing Hub\nIESS – 10th International Engineering Sourcing Show\nThis is an annual event organised by EEPC focused on the engineering and sourcing industries. Further this event provides a platform for companies and organisations to showcase their products\, services\, and technologies and network with industry professionals. In addition\, the event will feature exhibitions\, keynote speeches\, and conferences on the latest developments and trends in the engineering and sourcing industries. \nAbout EEPC\nEEPC India\, or the Engineering Export Promotion Council of India\, is a trade promotion organisation established in 1955. Formed by the Ministry of Commerce and Industry\, Government of India. Also\, its primary goal is to promote engineering exports from India. And enhance the competitiveness of the Indian engineering industry in the international market. EEPC India works closely with the Indian engineering industry\, government agencies\, and other stakeholders. And provides support and services to Indian engineering exporters. These services may include trade promotion activities\, market research and analysis. Including export counseling\, and organising trade fairs and exhibitions. Additionally\, EEPC India works to enhance the business environment for Indian engineering exporters. Especially done by advocating them for policies and initiatives that support their growth and competitiveness. \nAbout IESS\nFirst\, to establish India as preferred sourcing marketplace for engineering sector there is a necessity to move up the value chain. For high value precision engineering\, both for domestic market and overseas exports. \nBy creating a market platform – International Engineering Sourcing Show (IESS)\, EEPC offers an opportunity for exporters of engineering product and services to build business contacts with leading importers\, buyers\, dealers\, distributors\, and wholesalers of engineering product from America\, Europe\, Africa\, Latin America\, ASEAN\, Australia\, New Zealand and CIS Countries. \nIESS showcases India as an ‘Outsourcing hub’ for the engineering industry and sourcing opportunity for a wide range of high-quality engineering items at very competitive rates. \nInternational Engineering Sourcing Show (IESS) has established itself as the ONLY sourcing show of our India we look forward to welcome you at the show. \n\nWe Fabricate Stalls in IESS 2023\nOrange stall fabrication known for its best creative stall designing and fabrication at all major expos in India. May it be Build Intec\, Aero Show\, or IESS\, we make sure your brand presented uniquely\, colourfully\, and majestically. We do different types of stalls in expo. Meantime\, our stall designing team will work on branding\, colour presentation\, view point presentation\, and space management. For more details\, reach out to us. \nWe are an company of Orange Art Factory – Event Management & Cinema \n[/vc_column_text][/vc_column][/vc_row]
URL:https://stallfabrication.in/exhibition-in-india/iess-2023-stall-fabrication-chennai/
LOCATION:Chennai Trade Center\, Chennai\, Tamil Nadu\, India
CATEGORIES:Chennai Expo
ATTACH;FMTTYPE=image/jpeg:https://stallfabrication.in/wp-content/uploads
/2023/02/IESS-stall-fabrication-chennai-jpg.webp
ORGANIZER;CN="EEPC India":MAILTO:eepcho@eepcindia.net
END:VEVENT
END:VCALENDAR